BEGIN:VCALENDAR
PRODID:-//eluceo/ical//2.0/EN
VERSION:2.0
CALSCALE:GREGORIAN
BEGIN:VEVENT
UID:b8c72b09d3dbcdd61afa755f3b855fde
DTSTAMP:20260421T082446Z
SUMMARY:Plantjesverkoop Kom op tegen Kanker
DESCRIPTION:Site internet: https://www.komoptegenkanker.be/plantjesweekend/
 plantjesweekend-2026-terug-inschrijven-met-een-bestaand-plantjesteam
URL:https://genk-noord.rotary2140.org/fr/agenda/show/97297
DTSTART;TZID=Europe/Zurich:20260918T090000
DTEND;TZID=Europe/Zurich:20260920T180000
LOCATION:Stad Genk
CATEGORIES:Rotary
END:VEVENT
BEGIN:VTIMEZONE
TZID:Europe/Zurich
BEGIN:DAYLIGHT
DTSTART:20260918T090000
TZNAME:CEST
TZOFFSETTO:+0200
TZOFFSETFROM:+0200
END:DAYLIGHT
END:VTIMEZONE
END:VCALENDAR
